BEGIN:VCALENDAR
VERSION:2.0
PRODID:Events Booking
BEGIN:VEVENT
UID:69eb87f752ba8
SUMMARY:The UK & Africa International Construction Technology Fair\, London
 \, UK 2024
DESCRIPTION:This trade fair seeks to connect British construction firms to 
 African construction firms to promote business innovation and partnership.
LOCATION:105 Angell Road Brixton London SW9 7PD United Kingdom
DTSTART:20240906T100000Z
DTEND:20240906T170000Z
DTSTAMP:20240305T080304Z
ORGANIZER:MAILTO:info@brijens.com
GEO:51.466726;-0.105514
X-APPLE-STRUCTURED-LOCATION;VALUE=URI;X-ADDRESS=105 Angell Road Brixton Lon
 don SW9 7PD United Kingdom;X-APPLE-RADIUS=72;X-TITLE=Loughborough Centre:5
 1.466726;-0.105514
END:VEVENT
END:VCALENDAR