BEGIN:VCALENDAR
VERSION:2.0
PRODID:Events Booking
BEGIN:VEVENT
UID:69eb863a8be13
SUMMARY:Infrastructure Planning & Sustainable Development International Con
 ference
DESCRIPTION:Join us for a dynamic International event on Infrastructure Pla
 nning and Sustainable Development in London United Kingdom on 8-10 July 20
 24
LOCATION:105 Angell Road Brixton London SW9 7PD United Kingdom
DTSTART:20240708T160000Z
DTEND:20240710T190000Z
DTSTAMP:20240305T075059Z
ORGANIZER:MAILTO:info@brijens.com
GEO:51.466726;-0.105514
X-APPLE-STRUCTURED-LOCATION;VALUE=URI;X-ADDRESS=105 Angell Road Brixton Lon
 don SW9 7PD United Kingdom;X-APPLE-RADIUS=72;X-TITLE=Loughborough Centre:5
 1.466726;-0.105514
END:VEVENT
END:VCALENDAR