BEGIN:VCALENDAR
VERSION:2.0
PRODID:Events Booking
BEGIN:VEVENT
UID:69eb8b77b5cdc
SUMMARY:Global Conference on Strategic Management & Leadership\, Alberta Ca
 nada
DESCRIPTION:
LOCATION:10611 98 Avenue Northwest #9th floor Edmonton\, AB T5K 2P7 Canada
DTSTART:20251127T110000Z
DTEND:20251129T120000Z
DTSTAMP:20250910T185615Z
ORGANIZER:MAILTO:info@brijens.com
GEO:53.535566;-113.503391
X-APPLE-STRUCTURED-LOCATION;VALUE=URI;X-ADDRESS=10611 98 Avenue Northwest #
 9th floor Edmonton\, AB T5K 2P7 Canada;X-APPLE-RADIUS=72;X-TITLE=10611 98 
 Ave NW 9th floor:53.535566;-113.503391
END:VEVENT
END:VCALENDAR