BEGIN:VCALENDAR
VERSION:2.0
PRODID:Events Booking
BEGIN:VEVENT
UID:69eb86ad43ce8
SUMMARY:Nurses & Care Workers International Job Fairs
DESCRIPTION:This event will bring nurses\, care workers\, and employers und
 er the same umbrella for networking and potential job opportunities.
DTSTART:20231129T000000Z
DTEND:20231130T000000Z
DTSTAMP:20230926T000128Z
ORGANIZER:MAILTO:info@brijens.com
END:VEVENT
END:VCALENDAR