BEGIN:VCALENDAR
VERSION:2.0
PRODID:Events Booking
BEGIN:VEVENT
UID:69eb89653fb9b
SUMMARY:International Conference on Cultural Heritage Germany 2025
DESCRIPTION:International Conference on Cultural Heritage
LOCATION:Coreum GmbH\, Helmut-Kiesel-Straße 2\, 64589 Stockstadt am Rhein\
 , Germany
DTSTART:20250416T100000Z
DTEND:20250418T120000Z
DTSTAMP:20241024T172531Z
ORGANIZER:MAILTO:info@brijens.com
GEO:49.814597;8.480987
X-APPLE-STRUCTURED-LOCATION;VALUE=URI;X-ADDRESS=Coreum GmbH\, Helmut-Kiesel
 -Straße 2\, 64589 Stockstadt am Rhein\, Germany;X-APPLE-RADIUS=72;X-TITLE
 =Coreum GmbH Helmut-Kiesel-Straße 2 64589 Stockstadt am Rhein:49.814597;8
 .480987
END:VEVENT
END:VCALENDAR