BEGIN:VCALENDAR
VERSION:2.0
PRODID:Events Booking
BEGIN:VEVENT
UID:69eb8a47ca7b8
SUMMARY:Global Conference on Strategic Management & Leadership\, France 202
 5
DESCRIPTION:
 
 Global Conference on Strategic Management &amp\; Leadersh
 ip\, France 2025
 
 
LOCATION:73 Rue de Vaugirard 75006 Paris France
DTSTART:20250407T100000Z
DTEND:20250409T120000Z
DTSTAMP:20241024T172531Z
ORGANIZER:MAILTO:info@brijens.com
GEO:49.769252;1.499083
X-APPLE-STRUCTURED-LOCATION;VALUE=URI;X-ADDRESS=73 Rue de Vaugirard 75006 P
 aris France;X-APPLE-RADIUS=72;X-TITLE=73 Rue de Vaugirard:49.769252;1.4990
 83
END:VEVENT
END:VCALENDAR