BEGIN:VCALENDAR
VERSION:2.0
PRODID:Events Booking
BEGIN:VEVENT
UID:69eb89bc3202d
SUMMARY:Church Growth International Conference Berlin Germany 2025
DESCRIPTION:Church Growth International Conference Berlin Germany 2025
LOCATION:4th Floor GontardstraBe 11 10178 Berlin 10178 Berlin Germany
DTSTART:20250324T100000Z
DTEND:20250326T120000Z
DTSTAMP:20241024T172531Z
ORGANIZER:MAILTO:info@brijens.com
GEO:53.705622;13.224582
X-APPLE-STRUCTURED-LOCATION;VALUE=URI;X-ADDRESS=4th Floor GontardstraBe 11 
 10178 Berlin 10178 Berlin Germany;X-APPLE-RADIUS=72;X-TITLE=Berlin Alexand
 erplatz:53.705622;13.224582
END:VEVENT
END:VCALENDAR