BEGIN:VCALENDAR
VERSION:2.0
PRODID:Events Booking
BEGIN:VEVENT
UID:69eb8a04c93cb
SUMMARY:International Conference on Strategic Management & Leadership Scotl
 and 2025
DESCRIPTION:Managing a successful team require key strategies and practices
 . This event will offer the needed training and skill development to excel
 .
LOCATION:20-23 Woodside Place Glasgow G3 7QL United Kingdom
DTSTART:20250221T100000Z
DTEND:20250223T120000Z
DTSTAMP:20241024T172531Z
ORGANIZER:MAILTO:info@brijens.com
GEO:55.995706;-4.390664
X-APPLE-STRUCTURED-LOCATION;VALUE=URI;X-ADDRESS=20-23 Woodside Place Glasgo
 w G3 7QL United Kingdom;X-APPLE-RADIUS=72;X-TITLE=HQ - Glasgow\, Woodside 
 Place:55.995706;-4.390664
END:VEVENT
END:VCALENDAR