BEGIN:VCALENDAR
VERSION:2.0
PRODID:Events Booking
BEGIN:VEVENT
UID:69eb8799b18bd
SUMMARY:Church Growth International Conference United States 2024
DESCRIPTION:This is a work of ministry conference for Christians serving in
  leadership role in their local churches such as Pastors\, Elders\, Ushers
 \, choir members\, prayer ministry members\, outreach team members\, relat
 ed church workers etc.
LOCATION:4300 West Century Boulevard Inglewood\, CA 90304 United States
DTSTART:20241106T100000Z
DTEND:20241108T120000Z
DTSTAMP:20241024T174024Z
ORGANIZER:MAILTO:info@brijens.com
GEO:33.945433;-118.350466
X-APPLE-STRUCTURED-LOCATION;VALUE=URI;X-ADDRESS=4300 West Century Boulevard
  Inglewood\, CA 90304 United States;X-APPLE-RADIUS=72;X-TITLE=4300 W Centu
 ry Blvd:33.945433;-118.350466
END:VEVENT
END:VCALENDAR