BEGIN:VCALENDAR
VERSION:2.0
PRODID:Events Booking
BEGIN:VEVENT
UID:69eb8b40bfe6c
SUMMARY:International Business Conference on Customer Centric Growth
DESCRIPTION:Customer-centric growth is a business philosophy that prioritiz
 es the customer throughout the entire business process. It's not just abou
 t making a sale\, but rather about building long-term relationships with c
 ustomers by understanding their needs and exceeding their expectations.
LOCATION:105 Angell Road Brixton London SW9 7PD United Kingdom
DTSTART:20241118T100000Z
DTEND:20241120T120000Z
DTSTAMP:20241024T171052Z
ORGANIZER:MAILTO:info@brijens.com
GEO:51.466726;-0.105514
X-APPLE-STRUCTURED-LOCATION;VALUE=URI;X-ADDRESS=105 Angell Road Brixton Lon
 don SW9 7PD United Kingdom;X-APPLE-RADIUS=72;X-TITLE=Loughborough Centre:5
 1.466726;-0.105514
END:VEVENT
END:VCALENDAR