BEGIN:VCALENDAR
VERSION:2.0
PRODID:Events Booking
BEGIN:VEVENT
UID:69eb8784eba70
SUMMARY:International Youth Camp Meeting on Christian Leadership
DESCRIPTION:IntroductionGather together young Christian leaders between the
  ages of 18 and 25 years from around the world for an unforgettable experi
 ence of spiritual growth\, leadership development\, and international fell
 owship. This camp meeting will offer a unique opportunity to connect with 
 like-minded individuals\, explore your faith\, and develop the skills nece
 ssary to make a positive impact on your community and the world. from arou
 nd the world for an unforgettable experience of spiritual growth\, leaders
 hip development\, and international fellowship. This camp meeting will off
 er a unique opportunity to connect with like-minded individuals\, explore 
 your faith\, and develop the skills necessary to make a positive impact on
  your community and the world
LOCATION:105 Angell Road Brixton London SW9 7PD United Kingdom
DTSTART:20241206T000000Z
DTEND:20241208T000000Z
DTSTAMP:20241024T164739Z
ORGANIZER:MAILTO:info@brijens.com
GEO:51.466726;-0.105514
X-APPLE-STRUCTURED-LOCATION;VALUE=URI;X-ADDRESS=105 Angell Road Brixton Lon
 don SW9 7PD United Kingdom;X-APPLE-RADIUS=72;X-TITLE=Loughborough Centre:5
 1.466726;-0.105514
END:VEVENT
END:VCALENDAR