BEGIN:VCALENDAR
VERSION:2.0
PRODID:Events Booking
BEGIN:VEVENT
UID:69eb8c9de9d64
SUMMARY:Strategic Management on Tourism\, Hospitality & Events\, Germany 20
 25
DESCRIPTION:Strategic Management in Tourism\, Hospitality\, and EventsStrat
 egic management in the tourism\, hospitality\, and events industry involve
 s the development and implementation of long-term plans to achieve sustain
 able growth and competitive advantage. It requires a deep understanding of
  the industry's dynamics\, market trends\, and customer preferences.
LOCATION:Kurfürstendamm 101 10711 Berlin Germany
DTSTART:20250403T100000Z
DTEND:20250405T120000Z
DTSTAMP:20241024T163719Z
ORGANIZER:MAILTO:info@brijens.com
GEO:52.498868;13.295995
X-APPLE-STRUCTURED-LOCATION;VALUE=URI;X-ADDRESS=Kurfürstendamm 101 10711 B
 erlin Germany;X-APPLE-RADIUS=72;X-TITLE=Hotel Ku' Damm 101:52.498868;13.29
 5995
END:VEVENT
END:VCALENDAR