BEGIN:VCALENDAR
VERSION:2.0
PRODID:Events Booking
BEGIN:VEVENT
UID:69eb88e009680
SUMMARY:Global Conference on Strategic Management Germany\, 2025
DESCRIPTION:Managing a successful team requires key strategies and practice
 s. This event will present the needed training and network to become an ou
 tstanding leader in your field.
 This event is for people who play leader
 ship roles in their organisations and those who play an active role such a
 s policymakers\, directors\, managers\, supervisors\, team leaders in comp
 anies\, NGOs\, community base organisations\, teachers\, cooperate\, insti
 tutional leaders\, leaders playing active roles in their ministries\, Past
 ors\, Church workers\, etc.
LOCATION:Anhalter Straße 2 10963 Berlin Germany
DTSTART:20250128T100000Z
DTEND:20250130T120000Z
DTSTAMP:20240817T135533Z
ORGANIZER:MAILTO:info@brijens.com
GEO:52.504718;13.383299
X-APPLE-STRUCTURED-LOCATION;VALUE=URI;X-ADDRESS=Anhalter Straße 2 10963 Be
 rlin Germany;X-APPLE-RADIUS=72;X-TITLE=Novotel Suites Berlin City Potsdame
 r Platz:52.504718;13.383299
END:VEVENT
END:VCALENDAR