BEGIN:VCALENDAR
VERSION:2.0
PRODID:Events Booking
BEGIN:VEVENT
UID:69eb866a01b22
SUMMARY:Church Growth International Conference Canada 2024
DESCRIPTION:This is a work of ministry seminar for Christians serving in le
 adership role in their local churches such as Pastors\, Elders\, Ushers\, 
 choir members\, prayer ministry members\, outreach team members\, related 
 church workers etc.
 The Church Growth International Seminar will bring t
 ogether seasoned ministers who have been successful in planting mega churc
 hes to share the principles for church growth with conference attendees.
LOCATION:10155 105 Street Northwest Edmonton\, AB T5J 1E2 Canada
DTSTART:20241128T110000Z
DTEND:20241130T140000Z
DTSTAMP:20240811T151135Z
ORGANIZER:MAILTO:info@brijens.com
GEO:53.542518;-113.500548
X-APPLE-STRUCTURED-LOCATION;VALUE=URI;X-ADDRESS=10155 105 Street Northwest 
 Edmonton\, AB T5J 1E2 Canada;X-APPLE-RADIUS=72;X-TITLE=Coast Edmonton Plaz
 a Hotel by APA:53.542518;-113.500548
END:VEVENT
END:VCALENDAR