BEGIN:VCALENDAR
VERSION:2.0
PRODID:Events Booking
BEGIN:VEVENT
UID:69eb895f582ae
SUMMARY:International Business Conference on Strategic Management
DESCRIPTION:This conference is intended to empower managers\, and superviso
 rs to set goals\, procedures\, and objectives to make their organizations 
 competitive
LOCATION:Vilnius Grand Resort 14200 Vilnius Lithuania
DTSTART:20241216T100000Z
DTEND:20241218T120000Z
DTSTAMP:20240809T060830Z
ORGANIZER:MAILTO:info@brijens.com
GEO:54.831282;25.130682
X-APPLE-STRUCTURED-LOCATION;VALUE=URI;X-ADDRESS=Vilnius Grand Resort 14200 
 Vilnius Lithuania;X-APPLE-RADIUS=72;X-TITLE=Vilnius Grand Resort:54.831282
 ;25.130682
END:VEVENT
END:VCALENDAR