BEGIN:VCALENDAR
VERSION:2.0
PRODID:Events Booking
BEGIN:VEVENT
UID:69eb88bbad6b6
SUMMARY:International Conference on Strategic Management & Leadership
DESCRIPTION:
LOCATION:Edmonton Edmonton\, AB Canada
DTSTART:20241028T100000Z
DTEND:20241030T120000Z
DTSTAMP:20240405T222658Z
ORGANIZER:MAILTO:info@brijens.com
END:VEVENT
END:VCALENDAR