BEGIN:VCALENDAR
VERSION:2.0
PRODID:Events Booking
BEGIN:VEVENT
UID:69eb864132d98
SUMMARY:International Conference on Leading & Managing Effectively
DESCRIPTION:Managing a successful team requires key strategies and practice
 s. This event will present the needed training and network to become an ou
 tstanding leader in your field.
 This event is for people who play leader
 ship roles in their organisations and those who play an active roles such 
 as policymakers\, directors\, managers\, supervisors\, team leaders in com
 panies\, NGOs\, community-based organizations\, teachers\, cooperate\, ins
 titutional leaders\, leaders playing active roles in their ministries\, Pa
 stors\, Church workers\, etc.
LOCATION:20 Konstitucijos prospektas 09309 Vilnius Lithuania
DTSTART:20240325T100000Z
DTEND:20240327T120000Z
DTSTAMP:20240305T204810Z
ORGANIZER:MAILTO:info@brijens.com
GEO:54.695098;25.274631
X-APPLE-STRUCTURED-LOCATION;VALUE=URI;X-ADDRESS=20 Konstitucijos prospektas
  09309 Vilnius Lithuania;X-APPLE-RADIUS=72;X-TITLE=Hotel Radisson BLU Liet
 uva:54.695098;25.274631
END:VEVENT
END:VCALENDAR