BEGIN:VCALENDAR
VERSION:2.0
PRODID:Events Booking
BEGIN:VEVENT
UID:69eb8784a4749
SUMMARY:Church Growth International Conference London UK\, Spring 2024
DESCRIPTION:This is a work of ministry seminar for Christians serving in le
 adership roles in their local churches such as Pastors\, Elders\, Ushers\,
  choir members\, prayer ministry members\, outreach team members\, related
  church workers\, etc.
LOCATION:105 Angell Road Brixton London SW9 7PD United Kingdom
DTSTART:20240422T110000Z
DTEND:20240428T160000Z
DTSTAMP:20240305T183610Z
ORGANIZER:MAILTO:info@brijens.com
GEO:51.466726;-0.105514
X-APPLE-STRUCTURED-LOCATION;VALUE=URI;X-ADDRESS=105 Angell Road Brixton Lon
 don SW9 7PD United Kingdom;X-APPLE-RADIUS=72;X-TITLE=Loughborough Centre:5
 1.466726;-0.105514
END:VEVENT
END:VCALENDAR