BEGIN:VCALENDAR
VERSION:2.0
PRODID:Events Booking
BEGIN:VEVENT
UID:69eb87ddc8c66
SUMMARY:Nurses & Care Workers International Job Fair London UK\, 2024
DESCRIPTION:Introduction
 INRA Healthcare in partnership with Brijens\, As
 pire\, JGM Events\, BGM Conferences &amp\; Exhibitions\, Yolef Internation
 al\, stakeholders\, sponsors\, investors\, etc present The Nurses &amp\; C
 are Workers International Job Fair London UK 2024 to invite both local and
  international healthcare professionals to a unique job fair on the 30th N
 ovember 2024 at Loughborough Center in London United Kingdom. The goal of 
 this job fair is to create the opportunity for healthcare workers such as 
 nurses\, carers\, nannies\, support workers\, adult and social care profes
 sionals\, students\, new graduates\, etc to meet healthcare employers to e
 nhance employment opportunities.
LOCATION:105 Angell Road Brixton London SW9 7PD United Kingdom
DTSTART:20241130T140000Z
DTSTAMP:20240305T180125Z
ORGANIZER:MAILTO:info@brijens.com
GEO:51.466726;-0.105514
X-APPLE-STRUCTURED-LOCATION;VALUE=URI;X-ADDRESS=105 Angell Road Brixton Lon
 don SW9 7PD United Kingdom;X-APPLE-RADIUS=72;X-TITLE=Loughborough Centre:5
 1.466726;-0.105514
END:VEVENT
END:VCALENDAR